Workbook

Sheet SUMMARY
A1: THREE YEARS PLANNING | H1: FORM 3YP - III
A3: OPERATION: XYZ HOTEL | H3: PAGE 1 of 5
A5: ENVISAGED INVESTMENT: | D5: SUMMARY CAPITAL EXPENDITURES
A6: 2005 | H6: LOCAL CURRENCY: 1000's
D7: BUDGET | E7: FORECAST | F7: BUDGET | G7: PLANNING PERIOD
A8: POSION / SECTION | D8: =A6 -> 2005 | E8: =A6 -> 2005 | F8: =A6+1 -> 2006 | G8: =A6+2 -> 2007 | H8: =A6+3 -> 2008
A11: CAPEX PROJECTS
A13: NORMAL CAPEX PROJECTS | D13: ='CAPEX PROJECTS'!D30 -> 0 | E13: ='CAPEX PROJECTS'!E30 -> 0 | F13: ='CAPEX PROJECTS'!F30 -> 0 | G13: ='CAPEX PROJECTS'!G30 -> 0 | H13: ='CAPEX PROJECTS'!H30 -> 0
A15: SPECIAL CAPEX PROJECTS | D15: ='CAPEX PROJECTS'!D49 -> 0 | E15: ='CAPEX PROJECTS'!E49 -> 0 | F15: ='CAPEX PROJECTS'!F49 -> 0 | G15: ='CAPEX PROJECTS'!G49 -> 0 | H15: ='CAPEX PROJECTS'!H49 -> 0
A18: REPLACEMENTS
A20: REPLACEMENT HOUSEKEEPING | D20: ='REPLACEMENT 1'!D22 -> 0 | E20: ='REPLACEMENT 1'!E22 -> 0 | F20: ='REPLACEMENT 1'!F22 -> 0 | G20: ='REPLACEMENT 1'!G22 -> 0 | H20: ='REPLACEMENT 1'!H22 -> 0
A22: REPLACEMENT FRONT OFFICE | D22: ='REPLACEMENT 1'!D36 -> 0 | E22: ='REPLACEMENT 1'!E36 -> 0 | F22: ='REPLACEMENT 1'!F36 -> 0 | G22: ='REPLACEMENT 1'!G36 -> 0 | H22: ='REPLACEMENT 1'!H36 -> 0
A24: REPLACEMENT F&B OUTLETS | D24: ='REPLACEMENT 1'!D50 -> 0 | E24: ='REPLACEMENT 1'!E50 -> 0 | F24: ='REPLACEMENT 1'!F50 -> 0 | G24: ='REPLACEMENT 1'!G50 -> 0 | H24: ='REPLACEMENT 1'!H50 -> 0
A26: REPLACEMENT KITCHEN | D26: ='REPLACEMENT 2'!D22 -> 0 | E26: ='REPLACEMENT 2'!E22 -> 0 | F26: ='REPLACEMENT 2'!F22 -> 0 | G26: ='REPLACEMENT 2'!G22 -> 0 | H26: ='REPLACEMENT 2'!H22 -> 0
A28: REPLACEMENT MINOR OP. DPTS. | D28: ='REPLACEMENT 2'!D36 -> 0 | E28: ='REPLACEMENT 2'!E36 -> 0 | F28: ='REPLACEMENT 2'!F36 -> 0 | G28: ='REPLACEMENT 2'!G36 -> 0 | H28: ='REPLACEMENT 2'!H36 -> 0
A30: REPLACEMENTS A&G | D30: ='REPLACEMENT 2'!D50 -> 0 | E30: ='REPLACEMENT 2'!E50 -> 0 | F30: ='REPLACEMENT 2'!F50 -> 0 | G30: ='REPLACEMENT 2'!G50 -> 0 | H30: ='REPLACEMENT 2'!H50 -> 0
A32: REPLACEMENTS SALES & MARKETING | D32: ='REPLACEMENT 3'!D22 -> 0 | E32: ='REPLACEMENT 3'!E22 -> 0 | F32: ='REPLACEMENT 3'!F22 -> 0 | G32: ='REPLACEMENT 3'!G22 -> 0 | H32: ='REPLACEMENT 3'!H22 -> 0
A34: REPLACEMENT ENGINEERING | D34: ='REPLACEMENT 3'!D42 -> 0 | E34: ='REPLACEMENT 3'!E42 -> 0 | F34: ='REPLACEMENT 3'!F42 -> 0 | G34: ='REPLACEMENT 3'!G42 -> 0 | H34: ='REPLACEMENT 3'!H42 -> 0
A36: REPLACEMENT MINOR FIXED ASSETS | D36: ='REPLACEMENT 3'!D50 -> 0 | E36: ='REPLACEMENT 3'!E50 -> 0 | F36: ='REPLACEMENT 3'!F50 -> 0 | G36: ='REPLACEMENT 3'!G50 -> 0 | H36: ='REPLACEMENT 3'!H50 -> 0
A39: TOTAL REPLACEMENTS | D39: ='REPLACEMENT 3'!D54 -> 0 | E39: ='REPLACEMENT 3'!E54 -> 0 | F39: ='REPLACEMENT 3'!F54 -> 0 | G39: ='REPLACEMENT 3'!G54 -> 0 | H39: ='REPLACEMENT 3'!H54 -> 0
A43: TOTAL CAPITAL EXPENDITURES | D43: =D13+D15+D20+D22+D24+D26+D28+D30+D32+D34+D36 -> 0 | E43: =E13+E15+E20+E22+E24+E26+E28+E30+E32+E34+E36 -> 0 | F43: =F13+F15+F20+F22+F24+F26+F28+F30+F32+F34+F36 -> 0 | G43: =G13+G15+G20+G22+G24+G26+G28+G30+G32+G34+G36 -> 0 | H43: =H13+H15+H20+H22+H24+H26+H28+H30+H32+H34+H36 -> 0

Sheet CAPEX PROJECTS
A1: THREE YEARS PLANNING | H1: FORM 3YP - III
A3: =SUMMARY!A3 -> OPERATION: XYZ HOTEL | H3: PAGE 2 of 5
A5: ENVISAGED INVESTMENT: | D5: CAPEX PROJECTS
A6: =SUMMARY!A6 -> 2005 | H6: LOCAL CURRENCY: 1000's
D7: BUDGET | E7: FORECAST | F7: BUDGET | G7: PLANNING PERIOD
A8: SHORT DESCRIPTION | D8: =A6 -> 2005 | E8: =A6 -> 2005 | F8: =A6+1 -> 2006 | G8: =A6+2 -> 2007 | H8: =A6+3 -> 2008
A10: NORMAL CAPEX PROJECTS
A12: 1- | D12: 0 | E12: 0 | F12: 0 | G12: 0 | H12: 0
A13: 2- | D13: 0 | E13: 0 | F13: 0 | G13: 0 | H13: 0
A14: 3- | D14: 0 | E14: 0 | F14: 0 | G14: 0 | H14: 0
A15: 4- | D15: 0 | E15: 0 | F15: 0 | G15: 0 | H15: 0
A16: 5- | D16: 0 | E16: 0 | F16: 0 | G16: 0 | H16: 0
A17: 6- | D17: 0 | E17: 0 | F17: 0 | G17: 0 | H17: 0
A18: 7- | D18: 0 | E18: 0 | F18: 0 | G18: 0 | H18: 0
A19: 8- | D19: 0 | E19: 0 | F19: 0 | G19: 0 | H19: 0
A20: 9- | D20: 0 | E20: 0 | F20: 0 | G20: 0 | H20: 0
A21: 10- | D21: 0 | E21: 0 | F21: 0 | G21: 0 | H21: 0
A22: 11- | D22: 0 | E22: 0 | F22: 0 | G22: 0 | H22: 0
A23: 12- | D23: 0 | E23: 0 | F23: 0 | G23: 0 | H23: 0
... A29: 18- | D29: 0 | E29: 0 | F29: 0 | G29: 0 | H29: 0
C30: TOTAL NORMAL CAPEX | D30: =SUM(D12:D29) -> 0 | E30: =SUM(E12:E29) -> 0 | F30: =SUM(F12:F29) -> 0 | G30: =SUM(G12:G29) -> 0 | H30: =SUM(H12:H29) -> 0
A33: SPECIAL CAPEX PROJECTS
A35: 1- | D35: 0 | E35: 0 | F35: 0 | G35: 0 | H35: 0
A36: 2- | D36: 0 | E36: 0 | F36: 0 | G36: 0 | H36: 0
A37: 3- | D37: 0 | E37: 0 | F37: 0 | G37: 0 | H37: 0
A38: 4- | D38: 0 | E38: 0 | F38: 0 | G38: 0 | H38: 0
A39: 5- | D39: 0 | E39: 0 | F39: 0 | G39: 0 | H39: 0
A40: 6- | D40: 0 | E40: 0 | F40: 0 | G40: 0 | H40: 0
A41: 7- | D41: 0 | E41: 0 | F41: 0 | G41: 0 | H41: 0
A42: 8- | D42: 0 | E42: 0 | F42: 0 | G42: 0 | H42: 0
A43: 9- | D43: 0 | E43: 0 | F43: 0 | G43: 0 | H43: 0
A44: 10- | D44: 0 | E44: 0 | F44: 0 | G44: 0 | H44: 0
A45: 11- | D45: 0 | E45: 0 | F45: 0 | G45: 0 | H45: 0
A46: 12- | D46: 0 | E46: 0 | F46: 0 | G46: 0 | H46: 0
... A48: 14- | D48: 0 | E48: 0 | F48: 0 | G48: 0 | H48: 0
C49: TOTAL SPECIAL CAPEX PROJECTS | D49: =SUM(D35:D48) -> 0 | E49: =SUM(E35:E48) -> 0 | F49: =SUM(F35:F48) -> 0 | G49: =SUM(G35:G48) -> 0 | H49: =SUM(H35:H48) -> 0
A52: TOTAL CAPEX PROJECTS | D52: =D30+D49 -> 0 | E52: =E30+E49 -> 0 | F52: =F30+F49 -> 0 | G52: =G30+G49 -> 0 | H52: =H30+H49 -> 0

Sheet REPLACEMENT 1
A1: THREE YEARS PLANNING | H1: FORM 3YP - III
A3: =SUMMARY!A3 -> OPERATION: XYZ HOTEL | H3: PAGE 3 of 5
A5: ENVISAGED INVESTMENT: | D5: REPLACEMENTS & ADDITIONS TO FF&E
A6: =SUMMARY!A6 -> 2005 | H6: LOCAL CURRENCY: 1000's
D7: BUDGET | E7: FORECAST | F7: BUDGET | G7: PLANNING PERIOD
A8: SHORT DESCRIPTION | D8: =A6 -> 2005 | E8: =A6 -> 2005 | F8: =A6+1 -> 2006 | G8: =A6+2 -> 2007 | H8: =A6+3 -> 2008
A10: HOUSEKEEPING
A12: 1- | D12: 0 | E12: 0 | F12: 0 | G12: 0 | H12: 0
A13: 2- | D13: 0 | E13: 0 | F13: 0 | G13: 0 | H13: 0
A14: 3- | D14: 0 | E14: 0 | F14: 0 | G14: 0 | H14: 0
A15: 4- | D15: 0 | E15: 0 | F15: 0 | G15: 0 | H15: 0
A16: 5- | D16: 0 | E16: 0 | F16: 0 | G16: 0 | H16: 0
A17: 6- | D17: 0 | E17: 0 | F17: 0 | G17: 0 | H17: 0
A18: 7- | D18: 0 | E18: 0 | F18: 0 | G18: 0 | H18: 0
A19: 8- | D19: 0 | E19: 0 | F19: 0 | G19: 0 | H19: 0
A20: 9- | D20: 0 | E20: 0 | F20: 0 | G20: 0 | H20: 0
A21: 10- | D21: 0 | E21: 0 | F21: 0 | G21: 0 | H21: 0
C22: TOTAL HOUSEKEEPING | D22: =SUM(D12:D21) -> 0 | E22: =SUM(E12:E21) -> 0 | F22: =SUM(F12:F21) -> 0 | G22: =SUM(G12:G21) -> 0 | H22: =SUM(H12:H21) -> 0
A24: FRONT OFFICE
A26: 1- | D26: 0 | E26: 0 | F26: 0 | G26: 0 | H26: 0
A27: 2- | D27: 0 | E27: 0 | F27: 0 | G27: 0 | H27: 0
A28: 3- | D28: 0 | E28: 0 | F28: 0 | G28: 0 | H28: 0
A29: 4- | D29: 0 | E29: 0 | F29: 0 | G29: 0 | H29: 0
A30: 5- | D30: 0 | E30: 0 | F30: 0 | G30: 0 | H30: 0
A31: 6- | D31: 0 | E31: 0 | F31: 0 | G31: 0 | H31: 0
A32: 7- | D32: 0 | E32: 0 | F32: 0 | G32: 0 | H32: 0
A33: 8- | D33: 0 | E33: 0 | F33: 0 | G33: 0 | H33: 0
A34: 9- | D34: 0 | E34: 0 | F34: 0 | G34: 0 | H34: 0
A35: 10- | D35: 0 | E35: 0 | F35: 0 | G35: 0 | H35: 0
C36: TOTAL FRONT OFFICE | D36: =SUM(D26:D35) -> 0 | E36: =SUM(E26:E35) -> 0 | F36: =SUM(F26:F35) -> 0 | G36: =SUM(G26:G35) -> 0 | H36: =SUM(H26:H35) -> 0
A38: FOOD & BEVERAGE OUTLETS
A40: 1- | D40: 0 | E40: 0 | F40: 0 | G40: 0 | H40: 0
A41: 2- | D41: 0 | E41: 0 | F41: 0 | G41: 0 | H41: 0
A42: 3- | D42: 0 | E42: 0 | F42: 0 | G42: 0 | H42: 0
A43: 4- | D43: 0 | E43: 0 | F43: 0 | G43: 0 | H43: 0
A44: 5- | D44: 0 | E44: 0 | F44: 0 | G44: 0 | H44: 0
A45: 6- | D45: 0 | E45: 0 | F45: 0 | G45: 0 | H45: 0
A46: 7- | D46: 0 | E46: 0 | F46: 0 | G46: 0 | H46: 0
A47: 8- | D47: 0 | E47: 0 | F47: 0 | G47: 0 | H47: 0
A48: 9- | D48: 0 | E48: 0 | F48: 0 | G48: 0 | H48: 0
...

Sheet REPLACEMENT 2
A1: THREE YEARS PLANNING | H1: FORM 3YP - III
A3: ='REPLACEMENT 1'!A3 -> OPERATION: XYZ HOTEL | H3: PAGE 4 of 5
A5: ENVISAGED INVESTMENT: | D5: REPLACEMENTS & ADDITIONS TO FF&E
A6: ='REPLACEMENT 1'!A6 -> 2005 | H6: LOCAL CURRENCY: 1000's
D7: BUDGET | E7: FORECAST | F7: BUDGET | G7: PLANNING PERIOD
A8: SHORT DESCRIPTION | D8: =A6 -> 2005 | E8: =A6 -> 2005 | F8: =A6+1 -> 2006 | G8: =A6+2 -> 2007 | H8: =A6+3 -> 2008
A10: KITCHEN
A12: 1- | D12: 0 | E12: 0 | F12: 0 | G12: 0 | H12: 0
A13: 2- | D13: 0 | E13: 0 | F13: 0 | G13: 0 | H13: 0
A14: 3- | D14: 0 | E14: 0 | F14: 0 | G14: 0 | H14: 0
A15: 4- | D15: 0 | E15: 0 | F15: 0 | G15: 0 | H15: 0
A16: 5- | D16: 0 | E16: 0 | F16: 0 | G16: 0 | H16: 0
A17: 6- | D17: 0 | E17: 0 | F17: 0 | G17: 0 | H17: 0
A18: 7- | D18: 0 | E18: 0 | F18: 0 | G18: 0 | H18: 0
A19: 8- | D19: 0 | E19: 0 | F19: 0 | G19: 0 | H19: 0
A20: 9- | D20: 0 | E20: 0 | F20: 0 | G20: 0 | H20: 0
A21: 10- | D21: 0 | E21: 0 | F21: 0 | G21: 0 | H21: 0
C22: TOTAL KITCHEN | D22: =SUM(D12:D21) -> 0 | E22: =SUM(E12:E21) -> 0 | F22: =SUM(F12:F21) -> 0 | G22: =SUM(G12:G21) -> 0 | H22: =SUM(H12:H21) -> 0
A24: MINOR OPERATING DEPARTMENTS
A26: 1- | D26: 0 | E26: 0 | F26: 0 | G26: 0 | H26: 0
A27: 2- | D27: 0 | E27: 0 | F27: 0 | G27: 0 | H27: 0
A28: 3- | D28: 0 | E28: 0 | F28: 0 | G28: 0 | H28: 0
A29: 4- | D29: 0 | E29: 0 | F29: 0 | G29: 0 | H29: 0
A30: 5- | D30: 0 | E30: 0 | F30: 0 | G30: 0 | H30: 0
A31: 6- | D31: 0 | E31: 0 | F31: 0 | G31: 0 | H31: 0
A32: 7- | D32: 0 | E32: 0 | F32: 0 | G32: 0 | H32: 0
A33: 8- | D33: 0 | E33: 0 | F33: 0 | G33: 0 | H33: 0
A34: 9- | D34: 0 | E34: 0 | F34: 0 | G34: 0 | H34: 0
A35: 10- | D35: 0 | E35: 0 | F35: 0 | G35: 0 | H35: 0
C36: TOTAL MINOR OD | D36: =SUM(D26:D35) -> 0 | E36: =SUM(E26:E35) -> 0 | F36: =SUM(F26:F35) -> 0 | G36: =SUM(G26:G35) -> 0 | H36: =SUM(H26:H35) -> 0
A38: A&G
A40: 1- | D40: 0 | E40: 0 | F40: 0 | G40: 0 | H40: 0
A41: 2- | D41: 0 | E41: 0 | F41: 0 | G41: 0 | H41: 0
A42: 3- | D42: 0 | E42: 0 | F42: 0 | G42: 0 | H42: 0
A43: 4- | D43: 0 | E43: 0 | F43: 0 | G43: 0 | H43: 0
A44: 5- | D44: 0 | E44: 0 | F44: 0 | G44: 0 | H44: 0
A45: 6- | D45: 0 | E45: 0 | F45: 0 | G45: 0 | H45: 0
A46: 7- | D46: 0 | E46: 0 | F46: 0 | G46: 0 | H46: 0
A47: 8- | D47: 0 | E47: 0 | F47: 0 | G47: 0 | H47: 0
A48: 9- | D48: 0 | E48: 0 | F48: 0 | G48: 0 | H48: 0
...

Sheet REPLACEMENT 3
A1: THREE YEARS PLANNING | H1: FORM 3YP - III
A3: ='REPLACEMENT 1'!A3 -> OPERATION: XYZ HOTEL | H3: PAGE 5 of 5
A5: ENVISAGED INVESTMENT: | D5: REPLACEMENTS & ADDITIONS TO FF&E
A6: ='REPLACEMENT 1'!A6 -> 2005 | H6: LOCAL CURRENCY: 1000's
D7: BUDGET | E7: FORECAST | F7: BUDGET | G7: PLANNING PERIOD
A8: SHORT DESCRIPTION | D8: =A6 -> 2005 | E8: =A6 -> 2005 | F8: =A6+1 -> 2006 | G8: =A6+2 -> 2007 | H8: =A6+3 -> 2008
A10: SALES & MARKETING
A12: 1- | D12: 0 | E12: 0 | F12: 0 | G12: 0 | H12: 0
A13: 2- | D13: 0 | E13: 0 | F13: 0 | G13: 0 | H13: 0
A14: 3- | D14: 0 | E14: 0 | F14: 0 | G14: 0 | H14: 0
A15: 4- | D15: 0 | E15: 0 | F15: 0 | G15: 0 | H15: 0
A16: 5- | D16: 0 | E16: 0 | F16: 0 | G16: 0 | H16: 0
A17: 6- | D17: 0 | E17: 0 | F17: 0 | G17: 0 | H17: 0
A18: 7- | D18: 0 | E18: 0 | F18: 0 | G18: 0 | H18: 0
A19: 8- | D19: 0 | E19: 0 | F19: 0 | G19: 0 | H19: 0
A20: 9- | D20: 0 | E20: 0 | F20: 0 | G20: 0 | H20: 0
A21: 10- | D21: 0 | E21: 0 | F21: 0 | G21: 0 | H21: 0
C22: TOTAL SALES & MARKETING | D22: =SUM(D12:D21) -> 0 | E22: =SUM(E12:E21) -> 0 | F22: =SUM(F12:F21) -> 0 | G22: =SUM(G12:G21) -> 0 | H22: =SUM(H12:H21) -> 0
A24: ENGINEERING (including building exterior and gardens)
A26: 1- | D26: 0 | E26: 0 | F26: 0 | G26: 0 | H26: 0
A27: 2- | D27: 0 | E27: 0 | F27: 0 | G27: 0 | H27: 0
A28: 3- | D28: 0 | E28: 0 | F28: 0 | G28: 0 | H28: 0
A29: 4- | D29: 0 | E29: 0 | F29: 0 | G29: 0 | H29: 0
A30: 5- | D30: 0 | E30: 0 | F30: 0 | G30: 0 | H30: 0
A31: 6- | D31: 0 | E31: 0 | F31: 0 | G31: 0 | H31: 0
A32: 7- | D32: 0 | E32: 0 | F32: 0 | G32: 0 | H32: 0
A33: 8- | D33: 0 | E33: 0 | F33: 0 | G33: 0 | H33: 0
A34: 9- | D34: 0 | E34: 0 | F34: 0 | G34: 0 | H34: 0
A35: 10- | D35: 0 | E35: 0 | F35: 0 | G35: 0 | H35: 0
A36: 11- | D36: 0 | E36: 0 | F36: 0 | G36: 0 | H36: 0
A37: 12- | D37: 0 | E37: 0 | F37: 0 | G37: 0 | H37: 0
... A41: 16- | D41: 0 | E41: 0 | F41: 0 | G41: 0 | H41: 0
C42: TOTAL ENGINEERING | D42: =SUM(D26:D39) -> 0 | E42: =SUM(E26:E39) -> 0 | F42: =SUM(F26:F39) -> 0 | G42: =SUM(G26:G39) -> 0 | H42: =SUM(H26:H39) -> 0
A44: MINOR FIXED ASSETS ADDITIONS (under US$ 2'000)
A46: 1- | D46: 0 | E46: 0 | F46: 0 | G46: 0 | H46: 0
A47: 2- | D47: 0 | E47: 0 | F47: 0 | G47: 0 | H47: 0
A48: 3- | D48: 0 | E48: 0 | F48: 0 | G48: 0 | H48: 0
A49: 4- | D49: 0 | E49: 0 | F49: 0 | G49: 0 | H49: 0
C50: TOTAL MINOR FIXED ASSETS | D50: =SUM(D46:D49) -> 0 | E50: =SUM(E46:E49) -> 0 | F50: =SUM(F46:F49) -> 0 | G50: =SUM(G46:G49) -> 0 | H50: =SUM(H46:H49) -> 0
A52: SUB-TOTAL 3 - REPLACEMENTS | D52: =D22+D42+D50 -> 0 | E52: =E22+E42+E50 -> 0 | F52: =F22+F42+F50 -> 0 | G52: =G22+G42+G50 -> 0 | H52: =H22+H42+H50 -> 0
...
